BEGIN:VCALENDAR
VERSION:2.0
PRODID:-//The Plant Market - ECPv6.15.20//NONSGML v1.0//EN
CALSCALE:GREGORIAN
METHOD:PUBLISH
X-WR-CALNAME:The Plant Market
X-ORIGINAL-URL:https://theplant-market.co.uk
X-WR-CALDESC:Events for The Plant Market
REFRESH-INTERVAL;VALUE=DURATION:PT1H
X-Robots-Tag:noindex
X-PUBLISHED-TTL:PT1H
BEGIN:VTIMEZONE
TZID:Europe/London
BEGIN:DAYLIGHT
TZOFFSETFROM:+0000
TZOFFSETTO:+0100
TZNAME:BST
DTSTART:20190331T010000
END:DAYLIGHT
BEGIN:STANDARD
TZOFFSETFROM:+0100
TZOFFSETTO:+0000
TZNAME:GMT
DTSTART:20191027T010000
END:STANDARD
BEGIN:DAYLIGHT
TZOFFSETFROM:+0000
TZOFFSETTO:+0100
TZNAME:BST
DTSTART:20200329T010000
END:DAYLIGHT
BEGIN:STANDARD
TZOFFSETFROM:+0100
TZOFFSETTO:+0000
TZNAME:GMT
DTSTART:20201025T010000
END:STANDARD
BEGIN:DAYLIGHT
TZOFFSETFROM:+0000
TZOFFSETTO:+0100
TZNAME:BST
DTSTART:20210328T010000
END:DAYLIGHT
BEGIN:STANDARD
TZOFFSETFROM:+0100
TZOFFSETTO:+0000
TZNAME:GMT
DTSTART:20211031T010000
END:STANDARD
BEGIN:DAYLIGHT
TZOFFSETFROM:+0000
TZOFFSETTO:+0100
TZNAME:BST
DTSTART:20220327T010000
END:DAYLIGHT
BEGIN:STANDARD
TZOFFSETFROM:+0100
TZOFFSETTO:+0000
TZNAME:GMT
DTSTART:20221030T010000
END:STANDARD
END:VTIMEZONE
BEGIN:VEVENT
DTSTART;VALUE=DATE:20211001
DTEND;VALUE=DATE:20211101
DTSTAMP:20260423T121743
CREATED:20210914T105712Z
LAST-MODIFIED:20210914T105712Z
UID:21193-1633046400-1635724799@theplant-market.co.uk
SUMMARY:Tree Festival - October 2021
DESCRIPTION:We’re delighted to be holding our first festival in 18 months! October is going to be tree-tastic at the Plant Market. \nFrom ornamentals to fruit trees\, we will have a range in the nursery and various discounts and offers running throughout October.
URL:https://theplant-market.co.uk/event/tree-festival-october-2021/
LOCATION:Fife
END:VEVENT
BEGIN:VEVENT
DTSTART;TZID=Europe/London:20200525T080000
DTEND;TZID=Europe/London:20200602T170000
DTSTAMP:20260423T121743
CREATED:20200217T123313Z
LAST-MODIFIED:20200217T125338Z
UID:774-1590393600-1591117200@theplant-market.co.uk
SUMMARY:National Children's Gardening Week
DESCRIPTION:National Children’s Gardening Week celebrates the fun that gardens hold for kids. Children\, parents\, grandparents\, schools or garden businesses can find ideas for fun garden projects and activities.
URL:https://theplant-market.co.uk/event/national-childrens-gardening-week/
LOCATION:Fife
END:VEVENT
BEGIN:VEVENT
DTSTART;TZID=Europe/London:20200427T080000
DTEND;TZID=Europe/London:20200505T170000
DTSTAMP:20260423T121743
CREATED:20200217T123115Z
LAST-MODIFIED:20200217T123115Z
UID:771-1587974400-1588698000@theplant-market.co.uk
SUMMARY:National Gardening Week
DESCRIPTION:
URL:https://theplant-market.co.uk/event/national-gardening-week/
LOCATION:Fife
END:VEVENT
BEGIN:VEVENT
DTSTART;TZID=Europe/London:20200420T080000
DTEND;TZID=Europe/London:20200427T170000
DTSTAMP:20260423T121743
CREATED:20200217T134753Z
LAST-MODIFIED:20200217T134753Z
UID:777-1587369600-1588006800@theplant-market.co.uk
SUMMARY:National Plant Health Week
DESCRIPTION:This week focuses on how everyone can help to keep plants healthy\, protecting the huge range of benefits plants provide to us humans\, to wildlife\, to the environment and to our economy.
URL:https://theplant-market.co.uk/event/national-plant-health-week/
LOCATION:Fife
END:VEVENT
BEGIN:VEVENT
DTSTART;VALUE=DATE:20200328
DTEND;VALUE=DATE:20200330
DTSTAMP:20260423T121743
CREATED:20200301T145309Z
LAST-MODIFIED:20200301T145309Z
UID:794-1585353600-1585526399@theplant-market.co.uk
SUMMARY:Allotments weekend
DESCRIPTION:We’re holding an allotments weekend here at The Plant Market.  Pop in for any advice and for some great deals!
URL:https://theplant-market.co.uk/event/allotments-weekend/
LOCATION:The Plant Market\, South Pargillis\, Clockluine Road\, Hillend\, Fife\, KY11 7HS\, United Kingdom
ORGANIZER;CN="The Plant Market":MAILTO:fiona@growforth.co.uk
END:VEVENT
END:VCALENDAR