BEGIN:VCALENDAR
VERSION:2.0
PRODID:-//The Plant Market - ECPv6.15.20//NONSGML v1.0//EN
CALSCALE:GREGORIAN
METHOD:PUBLISH
X-ORIGINAL-URL:https://theplant-market.co.uk
X-WR-CALDESC:Events for The Plant Market
REFRESH-INTERVAL;VALUE=DURATION:PT1H
X-Robots-Tag:noindex
X-PUBLISHED-TTL:PT1H
BEGIN:VTIMEZONE
TZID:Europe/London
BEGIN:DAYLIGHT
TZOFFSETFROM:+0000
TZOFFSETTO:+0100
TZNAME:BST
DTSTART:20220327T010000
END:DAYLIGHT
BEGIN:STANDARD
TZOFFSETFROM:+0100
TZOFFSETTO:+0000
TZNAME:GMT
DTSTART:20221030T010000
END:STANDARD
BEGIN:DAYLIGHT
TZOFFSETFROM:+0000
TZOFFSETTO:+0100
TZNAME:BST
DTSTART:20230326T010000
END:DAYLIGHT
BEGIN:STANDARD
TZOFFSETFROM:+0100
TZOFFSETTO:+0000
TZNAME:GMT
DTSTART:20231029T010000
END:STANDARD
BEGIN:DAYLIGHT
TZOFFSETFROM:+0000
TZOFFSETTO:+0100
TZNAME:BST
DTSTART:20240331T010000
END:DAYLIGHT
BEGIN:STANDARD
TZOFFSETFROM:+0100
TZOFFSETTO:+0000
TZNAME:GMT
DTSTART:20241027T010000
END:STANDARD
END:VTIMEZONE
BEGIN:VEVENT
DTSTART;TZID=Europe/London:20230407T093000
DTEND;TZID=Europe/London:20230409T170000
DTSTAMP:20260423T060347
CREATED:20230327T150948Z
LAST-MODIFIED:20230327T151944Z
UID:21891-1680859800-1681059600@theplant-market.co.uk
SUMMARY:Easter Weekend event!
DESCRIPTION:We’re running an Easter trail over the weekend for the chance to win an Easter chick. Just come along and collect the letters for your chance to win. Each entrant will get a free packet of seeds to take away too!
URL:https://theplant-market.co.uk/event/easter-weekend-event/
LOCATION:The Plant Market\, South Pargillis\, Clockluine Road\, Hillend\, Fife\, KY11 7HS\, United Kingdom
ORGANIZER;CN="The Plant Market":MAILTO:fiona@growforth.co.uk
END:VEVENT
END:VCALENDAR