BEGIN:VCALENDAR
VERSION:2.0
PRODID:-//The Plant Market - ECPv6.15.20//NONSGML v1.0//EN
CALSCALE:GREGORIAN
METHOD:PUBLISH
X-ORIGINAL-URL:https://theplant-market.co.uk
X-WR-CALDESC:Events for The Plant Market
REFRESH-INTERVAL;VALUE=DURATION:PT1H
X-Robots-Tag:noindex
X-PUBLISHED-TTL:PT1H
BEGIN:VTIMEZONE
TZID:Europe/London
BEGIN:DAYLIGHT
TZOFFSETFROM:+0000
TZOFFSETTO:+0100
TZNAME:BST
DTSTART:20200329T010000
END:DAYLIGHT
BEGIN:STANDARD
TZOFFSETFROM:+0100
TZOFFSETTO:+0000
TZNAME:GMT
DTSTART:20201025T010000
END:STANDARD
BEGIN:DAYLIGHT
TZOFFSETFROM:+0000
TZOFFSETTO:+0100
TZNAME:BST
DTSTART:20210328T010000
END:DAYLIGHT
BEGIN:STANDARD
TZOFFSETFROM:+0100
TZOFFSETTO:+0000
TZNAME:GMT
DTSTART:20211031T010000
END:STANDARD
BEGIN:DAYLIGHT
TZOFFSETFROM:+0000
TZOFFSETTO:+0100
TZNAME:BST
DTSTART:20220327T010000
END:DAYLIGHT
BEGIN:STANDARD
TZOFFSETFROM:+0100
TZOFFSETTO:+0000
TZNAME:GMT
DTSTART:20221030T010000
END:STANDARD
END:VTIMEZONE
BEGIN:VEVENT
DTSTART;VALUE=DATE:20211001
DTEND;VALUE=DATE:20211101
DTSTAMP:20260424T114556
CREATED:20210914T105712Z
LAST-MODIFIED:20210914T105712Z
UID:21193-1633046400-1635724799@theplant-market.co.uk
SUMMARY:Tree Festival - October 2021
DESCRIPTION:We’re delighted to be holding our first festival in 18 months! October is going to be tree-tastic at the Plant Market. \nFrom ornamentals to fruit trees\, we will have a range in the nursery and various discounts and offers running throughout October.
URL:https://theplant-market.co.uk/event/tree-festival-october-2021/
LOCATION:Fife
END:VEVENT
END:VCALENDAR